BEGIN:VCALENDAR
VERSION:2.0
PRODID:-//Town of Prospect - ECPv6.15.17.1//NONSGML v1.0//EN
CALSCALE:GREGORIAN
METHOD:PUBLISH
X-ORIGINAL-URL:https://townofprospect.gov
X-WR-CALDESC:Events for Town of Prospect
REFRESH-INTERVAL;VALUE=DURATION:PT1H
X-Robots-Tag:noindex
X-PUBLISHED-TTL:PT1H
BEGIN:VTIMEZONE
TZID:America/Chicago
BEGIN:DAYLIGHT
TZOFFSETFROM:-0600
TZOFFSETTO:-0500
TZNAME:CDT
DTSTART:20230312T080000
END:DAYLIGHT
BEGIN:STANDARD
TZOFFSETFROM:-0500
TZOFFSETTO:-0600
TZNAME:CST
DTSTART:20231105T070000
END:STANDARD
BEGIN:DAYLIGHT
TZOFFSETFROM:-0600
TZOFFSETTO:-0500
TZNAME:CDT
DTSTART:20240310T080000
END:DAYLIGHT
BEGIN:STANDARD
TZOFFSETFROM:-0500
TZOFFSETTO:-0600
TZNAME:CST
DTSTART:20241103T070000
END:STANDARD
BEGIN:DAYLIGHT
TZOFFSETFROM:-0600
TZOFFSETTO:-0500
TZNAME:CDT
DTSTART:20250309T080000
END:DAYLIGHT
BEGIN:STANDARD
TZOFFSETFROM:-0500
TZOFFSETTO:-0600
TZNAME:CST
DTSTART:20251102T070000
END:STANDARD
END:VTIMEZONE
BEGIN:VEVENT
DTSTART;TZID=America/Chicago:20240610T170000
DTEND;TZID=America/Chicago:20240610T180000
DTSTAMP:20260425T124425
CREATED:20231201T135518Z
LAST-MODIFIED:20231201T135518Z
UID:10001650-1718038800-1718042400@townofprospect.gov
SUMMARY:Finance Committee
DESCRIPTION:
URL:https://townofprospect.gov/event/finance-committee/2024-06-10/
CATEGORIES:South Central Regional Water Authority
ATTACH;FMTTYPE=image/jpeg:https://cdn.townweb.com/townofprospect.gov/wp-content/uploads/2023/11/South_Central_Connecticut_Regional_Water_Authority_Logo.jpg
END:VEVENT
BEGIN:VEVENT
DTSTART;TZID=America/Chicago:20240612T173000
DTEND;TZID=America/Chicago:20240612T183000
DTSTAMP:20260425T124425
CREATED:20231201T140405Z
LAST-MODIFIED:20231201T140405Z
UID:10001662-1718213400-1718217000@townofprospect.gov
SUMMARY:Land use Committee
DESCRIPTION:
URL:https://townofprospect.gov/event/land-use-committee-3/2024-06-12/
CATEGORIES:South Central Regional Water Authority
ATTACH;FMTTYPE=image/jpeg:https://cdn.townweb.com/townofprospect.gov/wp-content/uploads/2023/11/South_Central_Connecticut_Regional_Water_Authority_Logo.jpg
END:VEVENT
BEGIN:VEVENT
DTSTART;TZID=America/Chicago:20240617T173000
DTEND;TZID=America/Chicago:20240617T183000
DTSTAMP:20260425T124425
CREATED:20231201T134148Z
LAST-MODIFIED:20231201T134148Z
UID:10001630-1718645400-1718649000@townofprospect.gov
SUMMARY:Consumer Affairs Committee
DESCRIPTION:
URL:https://townofprospect.gov/event/consumer-affairs-committee-8/
CATEGORIES:South Central Regional Water Authority
ATTACH;FMTTYPE=image/jpeg:https://cdn.townweb.com/townofprospect.gov/wp-content/uploads/2023/11/South_Central_Connecticut_Regional_Water_Authority_Logo.jpg
END:VEVENT
BEGIN:VEVENT
DTSTART;TZID=America/Chicago:20240627T123000
DTEND;TZID=America/Chicago:20240627T133000
DTSTAMP:20260425T124425
CREATED:20231130T190926Z
LAST-MODIFIED:20231130T190926Z
UID:10001606-1719491400-1719495000@townofprospect.gov
SUMMARY:Regional Water Authority
DESCRIPTION:meeting
URL:https://townofprospect.gov/event/regional-water-authority/2024-06-27/
CATEGORIES:South Central Regional Water Authority
ATTACH;FMTTYPE=image/jpeg:https://cdn.townweb.com/townofprospect.gov/wp-content/uploads/2023/11/South_Central_Connecticut_Regional_Water_Authority_Logo.jpg
END:VEVENT
BEGIN:VEVENT
DTSTART;TZID=America/Chicago:20240627T123000
DTEND;TZID=America/Chicago:20240627T133000
DTSTAMP:20260425T124425
CREATED:20231130T191912Z
LAST-MODIFIED:20231130T191912Z
UID:10001618-1719491400-1719495000@townofprospect.gov
SUMMARY:Commercial Business Committee
DESCRIPTION:
URL:https://townofprospect.gov/event/commercial-business-committee-2/
CATEGORIES:South Central Regional Water Authority
ATTACH;FMTTYPE=image/jpeg:https://cdn.townweb.com/townofprospect.gov/wp-content/uploads/2023/11/South_Central_Connecticut_Regional_Water_Authority_Logo.jpg
END:VEVENT
BEGIN:VEVENT
DTSTART;TZID=America/Chicago:20240627T123000
DTEND;TZID=America/Chicago:20240627T133000
DTSTAMP:20260425T124425
CREATED:20231130T192028Z
LAST-MODIFIED:20231130T192028Z
UID:10001619-1719491400-1719495000@townofprospect.gov
SUMMARY:Commercial Business Committee
DESCRIPTION:
URL:https://townofprospect.gov/event/commercial-business-committee-3/
CATEGORIES:South Central Regional Water Authority
ATTACH;FMTTYPE=image/jpeg:https://cdn.townweb.com/townofprospect.gov/wp-content/uploads/2023/11/South_Central_Connecticut_Regional_Water_Authority_Logo.jpg
END:VEVENT
BEGIN:VEVENT
DTSTART;TZID=America/Chicago:20240627T123000
DTEND;TZID=America/Chicago:20240627T133000
DTSTAMP:20260425T124425
CREATED:20231201T141637Z
LAST-MODIFIED:20231201T141637Z
UID:10001686-1719491400-1719495000@townofprospect.gov
SUMMARY:Strategic Planning Committee
DESCRIPTION:
URL:https://townofprospect.gov/event/strategic-planning-committee-2/
CATEGORIES:South Central Regional Water Authority
ATTACH;FMTTYPE=image/jpeg:https://cdn.townweb.com/townofprospect.gov/wp-content/uploads/2023/11/South_Central_Connecticut_Regional_Water_Authority_Logo.jpg
END:VEVENT
BEGIN:VEVENT
DTSTART;TZID=America/Chicago:20240627T183000
DTEND;TZID=America/Chicago:20240627T193000
DTSTAMP:20260425T124425
CREATED:20231201T141322Z
LAST-MODIFIED:20231201T141322Z
UID:10001678-1719513000-1719516600@townofprospect.gov
SUMMARY:Representative Policy Board
DESCRIPTION:
URL:https://townofprospect.gov/event/representative-policy-board/2024-06-27/
CATEGORIES:South Central Regional Water Authority
ATTACH;FMTTYPE=image/jpeg:https://cdn.townweb.com/townofprospect.gov/wp-content/uploads/2023/11/South_Central_Connecticut_Regional_Water_Authority_Logo.jpg
END:VEVENT
END:VCALENDAR