BEGIN:VCALENDAR
VERSION:2.0
PRODID:-//Town of Prospect - ECPv6.15.17.1//NONSGML v1.0//EN
CALSCALE:GREGORIAN
METHOD:PUBLISH
X-WR-CALNAME:Town of Prospect
X-ORIGINAL-URL:https://townofprospect.gov
X-WR-CALDESC:Events for Town of Prospect
REFRESH-INTERVAL;VALUE=DURATION:PT1H
X-Robots-Tag:noindex
X-PUBLISHED-TTL:PT1H
BEGIN:VTIMEZONE
TZID:America/Chicago
BEGIN:DAYLIGHT
TZOFFSETFROM:-0600
TZOFFSETTO:-0500
TZNAME:CDT
DTSTART:20240310T080000
END:DAYLIGHT
BEGIN:STANDARD
TZOFFSETFROM:-0500
TZOFFSETTO:-0600
TZNAME:CST
DTSTART:20241103T070000
END:STANDARD
BEGIN:DAYLIGHT
TZOFFSETFROM:-0600
TZOFFSETTO:-0500
TZNAME:CDT
DTSTART:20250309T080000
END:DAYLIGHT
BEGIN:STANDARD
TZOFFSETFROM:-0500
TZOFFSETTO:-0600
TZNAME:CST
DTSTART:20251102T070000
END:STANDARD
BEGIN:DAYLIGHT
TZOFFSETFROM:-0600
TZOFFSETTO:-0500
TZNAME:CDT
DTSTART:20260308T080000
END:DAYLIGHT
BEGIN:STANDARD
TZOFFSETFROM:-0500
TZOFFSETTO:-0600
TZNAME:CST
DTSTART:20261101T070000
END:STANDARD
END:VTIMEZONE
BEGIN:VEVENT
DTSTART;TZID=America/Chicago:20250407T170000
DTEND;TZID=America/Chicago:20250407T170000
DTSTAMP:20260424T195014
CREATED:20241126T142713Z
LAST-MODIFIED:20250326T200705Z
UID:10001882-1744045200-1744045200@townofprospect.gov
SUMMARY:Finance Committee
DESCRIPTION:
URL:https://townofprospect.gov/event/finance-committee-9/
CATEGORIES:South Central Regional Water Authority
ATTACH;FMTTYPE=image/jpeg:https://cdn.townweb.com/townofprospect.gov/wp-content/uploads/2024/11/South_Central_Connecticut_Regional_Water_Authority_Logo.jpg
END:VEVENT
BEGIN:VEVENT
DTSTART;TZID=America/Chicago:20250409T173000
DTEND;TZID=America/Chicago:20250409T173000
DTSTAMP:20260424T195014
CREATED:20250408T151953Z
LAST-MODIFIED:20250408T151953Z
UID:10002401-1744219800-1744219800@townofprospect.gov
SUMMARY:Land Use Committee
DESCRIPTION:
URL:https://townofprospect.gov/event/land-use-committee-6/
CATEGORIES:South Central Regional Water Authority
END:VEVENT
BEGIN:VEVENT
DTSTART;TZID=America/Chicago:20250416T170000
DTEND;TZID=America/Chicago:20250416T170000
DTSTAMP:20260424T195014
CREATED:20250326T214036Z
LAST-MODIFIED:20250326T214036Z
UID:10002234-1744822800-1744822800@townofprospect.gov
SUMMARY:Executive Committee
DESCRIPTION:
URL:https://townofprospect.gov/event/executive-committee-9/2025-04-16/
CATEGORIES:South Central Regional Water Authority
ATTACH;FMTTYPE=image/jpeg:https://cdn.townweb.com/townofprospect.gov/wp-content/uploads/2024/11/South_Central_Connecticut_Regional_Water_Authority_Logo.jpg
END:VEVENT
BEGIN:VEVENT
DTSTART;TZID=America/Chicago:20250421T173000
DTEND;TZID=America/Chicago:20250421T173000
DTSTAMP:20260424T195014
CREATED:20250408T150853Z
LAST-MODIFIED:20250408T150853Z
UID:10002392-1745256600-1745256600@townofprospect.gov
SUMMARY:Consumer Affairs Committee
DESCRIPTION:
URL:https://townofprospect.gov/event/consumer-affairs-committee-2/2025-04-21/
CATEGORIES:South Central Regional Water Authority
END:VEVENT
BEGIN:VEVENT
DTSTART;TZID=America/Chicago:20250424T123000
DTEND;TZID=America/Chicago:20250424T140000
DTSTAMP:20260424T195014
CREATED:20250408T153458Z
LAST-MODIFIED:20250408T153458Z
UID:10002423-1745497800-1745503200@townofprospect.gov
SUMMARY:Regional Water Authority Regular Meeting
DESCRIPTION:
URL:https://townofprospect.gov/event/regional-water-authority-regular-meeting/2025-04-24/
CATEGORIES:South Central Regional Water Authority
END:VEVENT
BEGIN:VEVENT
DTSTART;TZID=America/Chicago:20250424T123000
DTEND;TZID=America/Chicago:20250424T140000
DTSTAMP:20260424T195014
CREATED:20250408T154446Z
LAST-MODIFIED:20250408T154446Z
UID:10002445-1745497800-1745503200@townofprospect.gov
SUMMARY:Compensation Committee
DESCRIPTION:
URL:https://townofprospect.gov/event/compensation-committee-4/
CATEGORIES:South Central Regional Water Authority
END:VEVENT
BEGIN:VEVENT
DTSTART;TZID=America/Chicago:20250424T123000
DTEND;TZID=America/Chicago:20250424T140000
DTSTAMP:20260424T195014
CREATED:20250408T154842Z
LAST-MODIFIED:20250408T154842Z
UID:10002450-1745497800-1745503200@townofprospect.gov
SUMMARY:Pension and Benefit Committee
DESCRIPTION:
URL:https://townofprospect.gov/event/pension-and-benefit-committee-5/
CATEGORIES:South Central Regional Water Authority
END:VEVENT
BEGIN:VEVENT
DTSTART;TZID=America/Chicago:20250424T183000
DTEND;TZID=America/Chicago:20250424T183000
DTSTAMP:20260424T195014
CREATED:20250408T152745Z
LAST-MODIFIED:20250408T152745Z
UID:10002414-1745519400-1745519400@townofprospect.gov
SUMMARY:Representative Policy Board
DESCRIPTION:
URL:https://townofprospect.gov/event/representative-policy-board-4/2025-04-24/
CATEGORIES:South Central Regional Water Authority
END:VEVENT
END:VCALENDAR