BEGIN:VCALENDAR
VERSION:2.0
PRODID:-//Town of Prospect - ECPv6.15.17.1//NONSGML v1.0//EN
CALSCALE:GREGORIAN
METHOD:PUBLISH
X-WR-CALNAME:Town of Prospect
X-ORIGINAL-URL:https://townofprospect.gov
X-WR-CALDESC:Events for Town of Prospect
REFRESH-INTERVAL;VALUE=DURATION:PT1H
X-Robots-Tag:noindex
X-PUBLISHED-TTL:PT1H
BEGIN:VTIMEZONE
TZID:America/Chicago
BEGIN:DAYLIGHT
TZOFFSETFROM:-0600
TZOFFSETTO:-0500
TZNAME:CDT
DTSTART:20250309T080000
END:DAYLIGHT
BEGIN:STANDARD
TZOFFSETFROM:-0500
TZOFFSETTO:-0600
TZNAME:CST
DTSTART:20251102T070000
END:STANDARD
BEGIN:DAYLIGHT
TZOFFSETFROM:-0600
TZOFFSETTO:-0500
TZNAME:CDT
DTSTART:20260308T080000
END:DAYLIGHT
BEGIN:STANDARD
TZOFFSETFROM:-0500
TZOFFSETTO:-0600
TZNAME:CST
DTSTART:20261101T070000
END:STANDARD
BEGIN:DAYLIGHT
TZOFFSETFROM:-0600
TZOFFSETTO:-0500
TZNAME:CDT
DTSTART:20270314T080000
END:DAYLIGHT
BEGIN:STANDARD
TZOFFSETFROM:-0500
TZOFFSETTO:-0600
TZNAME:CST
DTSTART:20271107T070000
END:STANDARD
END:VTIMEZONE
BEGIN:VEVENT
DTSTART;TZID=America/Chicago:20260706T170000
DTEND;TZID=America/Chicago:20260706T170000
DTSTAMP:20260423T111244
CREATED:20251203T000501Z
LAST-MODIFIED:20251203T000501Z
UID:10002763-1783357200-1783357200@townofprospect.gov
SUMMARY:Finance Committee Regular Meeting
DESCRIPTION:
URL:https://townofprospect.gov/event/finance-committee-regular-meeting-7/
CATEGORIES:South Central Regional Water Authority
END:VEVENT
BEGIN:VEVENT
DTSTART;TZID=America/Chicago:20260708T173000
DTEND;TZID=America/Chicago:20260708T173000
DTSTAMP:20260423T111244
CREATED:20251203T002208Z
LAST-MODIFIED:20251203T002208Z
UID:10002776-1783531800-1783531800@townofprospect.gov
SUMMARY:Land Use Committee Regular Meeting
DESCRIPTION:
URL:https://townofprospect.gov/event/land-use-committee-regular-meeting-7/
CATEGORIES:South Central Regional Water Authority
END:VEVENT
BEGIN:VEVENT
DTSTART;TZID=America/Chicago:20260715T170000
DTEND;TZID=America/Chicago:20260715T170000
DTSTAMP:20260423T111244
CREATED:20251205T184139Z
LAST-MODIFIED:20251205T184139Z
UID:10002796-1784134800-1784134800@townofprospect.gov
SUMMARY:Executive Committee Representative Policy Board Regular Meeting
DESCRIPTION:South Central Connecticut Regional Water Authority Executive Committee Representative Policy Board Regular Meeting
URL:https://townofprospect.gov/event/executive-committee-representative-policy-board-regular-meeting-3/
CATEGORIES:South Central Regional Water Authority
END:VEVENT
BEGIN:VEVENT
DTSTART;TZID=America/Chicago:20260720T173000
DTEND;TZID=America/Chicago:20260720T173000
DTSTAMP:20260423T111244
CREATED:20251203T174346Z
LAST-MODIFIED:20251203T174346Z
UID:10002788-1784568600-1784568600@townofprospect.gov
SUMMARY:Consumer Affairs Committee Regular Meeting
DESCRIPTION:South Central Connecticut Regional Water Authority Consumer Affairs Committee Regular Meeting
URL:https://townofprospect.gov/event/consumer-affairs-committee-regular-meeting-3/
CATEGORIES:South Central Regional Water Authority
END:VEVENT
BEGIN:VEVENT
DTSTART;TZID=America/Chicago:20260723T123000
DTEND;TZID=America/Chicago:20260723T123000
DTSTAMP:20260423T111244
CREATED:20251124T184815Z
LAST-MODIFIED:20251125T190001Z
UID:10002704-1784809800-1784809800@townofprospect.gov
SUMMARY:South Central Connecticut Regional Water Authority Regular Meeting
DESCRIPTION:South Central Connecticut Regional Water Authority Regular Meeting
URL:https://townofprospect.gov/event/south-central-connecticut-regional-water-authority-regular-meeting-8/
CATEGORIES:South Central Regional Water Authority
END:VEVENT
BEGIN:VEVENT
DTSTART;TZID=America/Chicago:20260723T123000
DTEND;TZID=America/Chicago:20260723T123000
DTSTAMP:20260423T111244
CREATED:20251202T203421Z
LAST-MODIFIED:20251202T203421Z
UID:10002732-1784809800-1784809800@townofprospect.gov
SUMMARY:Compensation Committee Regular Meeting
DESCRIPTION:South Central Connecticut Regional Water Authority Compensation Committee Regular Meeting
URL:https://townofprospect.gov/event/compensation-committee-regular-meeting-3/
CATEGORIES:South Central Regional Water Authority
END:VEVENT
BEGIN:VEVENT
DTSTART;TZID=America/Chicago:20260723T123000
DTEND;TZID=America/Chicago:20260723T123000
DTSTAMP:20260423T111244
CREATED:20251202T231713Z
LAST-MODIFIED:20251202T231713Z
UID:10002739-1784809800-1784809800@townofprospect.gov
SUMMARY:Pension & Benefit Committee Regular Meeting
DESCRIPTION:South Central Connecticut Regional Water Authority Pension & Benefit Committee Regular Meeting
URL:https://townofprospect.gov/event/pension-benefit-committee-regular-meeting-3/
CATEGORIES:South Central Regional Water Authority
END:VEVENT
BEGIN:VEVENT
DTSTART;TZID=America/Chicago:20260723T183000
DTEND;TZID=America/Chicago:20260723T183000
DTSTAMP:20260423T111244
CREATED:20251202T234759Z
LAST-MODIFIED:20251202T234759Z
UID:10002751-1784831400-1784831400@townofprospect.gov
SUMMARY:Representative Policy Board Regular Meeting
DESCRIPTION:
URL:https://townofprospect.gov/event/representative-policy-board-regular-meeting-7/
CATEGORIES:South Central Regional Water Authority
END:VEVENT
END:VCALENDAR