BEGIN:VCALENDAR
VERSION:2.0
PRODID:-//Town of Prospect - ECPv6.15.17.1//NONSGML v1.0//EN
CALSCALE:GREGORIAN
METHOD:PUBLISH
X-ORIGINAL-URL:https://townofprospect.gov
X-WR-CALDESC:Events for Town of Prospect
REFRESH-INTERVAL;VALUE=DURATION:PT1H
X-Robots-Tag:noindex
X-PUBLISHED-TTL:PT1H
BEGIN:VTIMEZONE
TZID:America/Chicago
BEGIN:DAYLIGHT
TZOFFSETFROM:-0600
TZOFFSETTO:-0500
TZNAME:CDT
DTSTART:20230312T080000
END:DAYLIGHT
BEGIN:STANDARD
TZOFFSETFROM:-0500
TZOFFSETTO:-0600
TZNAME:CST
DTSTART:20231105T070000
END:STANDARD
BEGIN:DAYLIGHT
TZOFFSETFROM:-0600
TZOFFSETTO:-0500
TZNAME:CDT
DTSTART:20240310T080000
END:DAYLIGHT
BEGIN:STANDARD
TZOFFSETFROM:-0500
TZOFFSETTO:-0600
TZNAME:CST
DTSTART:20241103T070000
END:STANDARD
BEGIN:DAYLIGHT
TZOFFSETFROM:-0600
TZOFFSETTO:-0500
TZNAME:CDT
DTSTART:20250309T080000
END:DAYLIGHT
BEGIN:STANDARD
TZOFFSETFROM:-0500
TZOFFSETTO:-0600
TZNAME:CST
DTSTART:20251102T070000
END:STANDARD
END:VTIMEZONE
BEGIN:VEVENT
DTSTART;TZID=America/Chicago:20241024T123000
DTEND;TZID=America/Chicago:20241024T133000
DTSTAMP:20260425T075021
CREATED:20231201T141018Z
LAST-MODIFIED:20231201T141018Z
UID:10001672-1729773000-1729776600@townofprospect.gov
SUMMARY:Pension and Benefit Committee
DESCRIPTION:
URL:https://townofprospect.gov/event/pension-and-benefit-committee-4/
CATEGORIES:South Central Regional Water Authority
ATTACH;FMTTYPE=image/jpeg:https://cdn.townweb.com/townofprospect.gov/wp-content/uploads/2023/11/South_Central_Connecticut_Regional_Water_Authority_Logo.jpg
END:VEVENT
BEGIN:VEVENT
DTSTART;TZID=America/Chicago:20241024T123000
DTEND;TZID=America/Chicago:20241024T170000
DTSTAMP:20260425T075021
CREATED:20231130T191030Z
LAST-MODIFIED:20231130T191030Z
UID:10001610-1729773000-1729789200@townofprospect.gov
SUMMARY:Regional Water Authority
DESCRIPTION:
URL:https://townofprospect.gov/event/regional-water-authority-2/
CATEGORIES:South Central Regional Water Authority
ATTACH;FMTTYPE=image/jpeg:https://cdn.townweb.com/townofprospect.gov/wp-content/uploads/2023/11/South_Central_Connecticut_Regional_Water_Authority_Logo.jpg
END:VEVENT
BEGIN:VEVENT
DTSTART;TZID=America/Chicago:20241024T183000
DTEND;TZID=America/Chicago:20241024T193000
DTSTAMP:20260425T075021
CREATED:20231201T141322Z
LAST-MODIFIED:20231201T141322Z
UID:10001682-1729794600-1729798200@townofprospect.gov
SUMMARY:Representative Policy Board
DESCRIPTION:
URL:https://townofprospect.gov/event/representative-policy-board/2024-10-24/
CATEGORIES:South Central Regional Water Authority
ATTACH;FMTTYPE=image/jpeg:https://cdn.townweb.com/townofprospect.gov/wp-content/uploads/2023/11/South_Central_Connecticut_Regional_Water_Authority_Logo.jpg
END:VEVENT
END:VCALENDAR